BEGIN:VCALENDAR
VERSION:2.0
PRODID:-//The Chocolate Garden of Ireland - ECPv4.4.4//NONSGML v1.0//EN
CALSCALE:GREGORIAN
METHOD:PUBLISH
X-WR-CALNAME:The Chocolate Garden of Ireland
X-ORIGINAL-URL:http://chocolategarden.ie
X-WR-CALDESC:Events for The Chocolate Garden of Ireland
BEGIN:VEVENT
DTSTART;TZID=Europe/Dublin:20171210T150000
DTEND;TZID=Europe/Dublin:20171210T160000
DTSTAMP:20171031T085526
CREATED:20170901T120905Z
LAST-MODIFIED:20170901T121827Z
UID:9653-1512918000-1512921600@chocolategarden.ie
SUMMARY:Christmas Elf Chocolate Workshop 3pm
DESCRIPTION:The Workshop:\nGet hands-on working with the Chocolate Elves to get ready for Christmas!\n\nThis Christmas\, Come and Join in with the elves in a Magical\, Fun-filled Chocolate-Making workshop at The Chocolate Garden of Ireland. Enjoy a live link with the North Pole\, in contact with both the Elf Workshop there and a live link with Santa himself who will address the boys and girls personally – but only if they are on the good list!\n\nRoll up your sleeves and make a chocolate Christmas figure to take home; decorate a chocolate bar for Santa… And there’ll be lots of tastings and chocolate fun in between. To finish off\, enjoy a warm drink of real hot chocolate. Trainee Elves will receive a Certificate.\n\nChildren/Mould-Makers €13.50 “TRAINEE ELVES”\n\nAdults/Non-Mould-Makers €8 “ASSISTANT ELVES”\n\n(includes hot chocolate\, Finished Christmas chocolate bar\, and chocolate tastings).\nPREBOOKING ESSENTIAL\nElf Workshop Available: Saturday & Sundays from 18th November until 23rd December incl. school holiday weekdays of Christmas week. Workshop lasts around 50 mins.\n\nPre-book to avoid disappointment online or by phone: Tel. 059-6481999.\nWHAT IS AVAILABLE DAILY WITHOUT BOOKING:\nChocolate Mould making available daily (not Elf Workshop) without booking - €10; includes an ice cream while you wait for your mould to set. Takes c.30 mins\, in our café.\n\nEnjoy some of the delicious treats available in our café / ice cream parlour – award winning coffee\, ice cream and chocolates.
URL:http://chocolategarden.ie/event/christmas-elf-chocolate-workshop-3pm-2017-12-10/
LOCATION:The Chocolate Garden of Ireland\, Meadowbrook\, Rath\, Tullow\, Co. Carlow\, Ireland
GEO:52.802547;-6.7371517
X-APPLE-STRUCTURED-LOCATION;VALUE=URI;X-ADDRESS=The Chocolate Garden of Ireland Meadowbrook Rath Tullow Co. Carlow Ireland;X-APPLE-RADIUS=500;X-TITLE=The Chocolate Garden of Ireland\, Meadowbrook:geo:-6.7371517,52.802547
CATEGORIES:Elf Chocolate Workshop
ATTACH;FMTTYPE=image/jpeg:http://chocolategarden.ie/wp-content/uploads/2017/09/elf-head-small.jpg
ORGANIZER;CN="Mary%20Healy":MAILTO:info@chocolategarden.ie
END:VEVENT
END:VCALENDAR